BEGIN:VCALENDAR
VERSION:2.0
PRODID:-//Department of Biology - ECPv6.15.20//NONSGML v1.0//EN
CALSCALE:GREGORIAN
METHOD:PUBLISH
X-ORIGINAL-URL:https://biology.upb.edu.ph
X-WR-CALDESC:Events for Department of Biology
REFRESH-INTERVAL;VALUE=DURATION:PT1H
X-Robots-Tag:noindex
X-PUBLISHED-TTL:PT1H
BEGIN:VTIMEZONE
TZID:Asia/Manila
BEGIN:STANDARD
TZOFFSETFROM:+0800
TZOFFSETTO:+0800
TZNAME:PST
DTSTART:20230101T000000
END:STANDARD
END:VTIMEZONE
BEGIN:VEVENT
DTSTART;TZID=Asia/Manila:20240111T083000
DTEND;TZID=Asia/Manila:20240111T120000
DTSTAMP:20260420T034328
CREATED:20240109T142754Z
LAST-MODIFIED:20240109T143002Z
UID:1375-1704961800-1704974400@biology.upb.edu.ph
SUMMARY:MS CaRE Thesis Defense of Mr. Emmanuel Lacadin
DESCRIPTION:
URL:https://biology.upb.edu.ph/event/ms-care-thesis-defense-elacadin/
LOCATION:Rm 204\, Iskolar ng Bayan Building\, University of the Philippines Baguio\, Baguio City\, Benguet\, 2600\, Philippines
END:VEVENT
END:VCALENDAR