BEGIN:VCALENDAR
VERSION:2.0
PRODID:-//Department of Biology - ECPv6.15.20//NONSGML v1.0//EN
CALSCALE:GREGORIAN
METHOD:PUBLISH
X-ORIGINAL-URL:https://biology.upb.edu.ph
X-WR-CALDESC:Events for Department of Biology
REFRESH-INTERVAL;VALUE=DURATION:PT1H
X-Robots-Tag:noindex
X-PUBLISHED-TTL:PT1H
BEGIN:VTIMEZONE
TZID:UTC
BEGIN:STANDARD
TZOFFSETFROM:+0000
TZOFFSETTO:+0000
TZNAME:UTC
DTSTART:20230101T000000
END:STANDARD
END:VTIMEZONE
BEGIN:VEVENT
DTSTART;TZID=UTC:20240422T080000
DTEND;TZID=UTC:20240422T170000
DTSTAMP:20260419T235659
CREATED:20240109T143743Z
LAST-MODIFIED:20240109T143847Z
UID:1392-1713772800-1713805200@biology.upb.edu.ph
SUMMARY:29th SINSM
DESCRIPTION:Stay tuned for more details!
URL:https://biology.upb.edu.ph/event/29th-sinsm/
LOCATION:Benguet
END:VEVENT
END:VCALENDAR